BEGIN:VCALENDAR
VERSION:2.0
PRODID:-//InfoPlus Events | Event Management Company - ECPv6.15.13//NONSGML v1.0//EN
CALSCALE:GREGORIAN
METHOD:PUBLISH
X-WR-CALNAME:InfoPlus Events | Event Management Company
X-ORIGINAL-URL:https://infoplusevents.com
X-WR-CALDESC:Events for InfoPlus Events | Event Management Company
REFRESH-INTERVAL;VALUE=DURATION:PT1H
X-Robots-Tag:noindex
X-PUBLISHED-TTL:PT1H
BEGIN:VTIMEZONE
TZID:Asia/Dubai
BEGIN:STANDARD
TZOFFSETFROM:+0400
TZOFFSETTO:+0400
TZNAME:+04
DTSTART:20240101T000000
END:STANDARD
END:VTIMEZONE
BEGIN:VEVENT
DTSTART;VALUE=DATE:20251114
DTEND;VALUE=DATE:20251117
DTSTAMP:20260421T225612
CREATED:20250227T082854Z
LAST-MODIFIED:20250527T065901Z
UID:3938-1763078400-1763337599@infoplusevents.com
SUMMARY:13th Emirates International Orthopaedic Congress
DESCRIPTION:We look forward to welcoming you to the Emirates Orthopaedic Society\, it is an honor and privilege to welcome you to the 13th Emirates Orthopaedic Society Meeting: 1st Gulf Knee Course\,\, to be held from November 14-16\, 2024 at the Event Centre\, InterContinental Hotel\, Dubai Festival City\, Dubai – United Arab Emirates. \n#IPEvents \n\nSUBSCRIBE
URL:https://infoplusevents.com/event/13th-emirates-international-orthopaedic-congress/
LOCATION:Event Centre\, Dubai Festival City\, Dubai\, United Arab Emirates
CATEGORIES:Medical
ATTACH;FMTTYPE=image/jpeg:https://infoplusevents.com/wp-content/uploads/2025/05/new-InfoPlus-Banner-Ortho-Banner.jpg
END:VEVENT
END:VCALENDAR