BEGIN:VCALENDAR
VERSION:2.0
PRODID:-//InfoPlus Events | Event Management Company - ECPv6.15.13//NONSGML v1.0//EN
CALSCALE:GREGORIAN
METHOD:PUBLISH
X-WR-CALNAME:InfoPlus Events | Event Management Company
X-ORIGINAL-URL:https://infoplusevents.com
X-WR-CALDESC:Events for InfoPlus Events | Event Management Company
REFRESH-INTERVAL;VALUE=DURATION:PT1H
X-Robots-Tag:noindex
X-PUBLISHED-TTL:PT1H
BEGIN:VTIMEZONE
TZID:Asia/Dubai
BEGIN:STANDARD
TZOFFSETFROM:+0400
TZOFFSETTO:+0400
TZNAME:+04
DTSTART:20240101T000000
END:STANDARD
END:VTIMEZONE
BEGIN:VEVENT
DTSTART;VALUE=DATE:20250418
DTEND;VALUE=DATE:20250421
DTSTAMP:20260421T225820
CREATED:20250226T122431Z
LAST-MODIFIED:20250226T124442Z
UID:3908-1744934400-1745193599@infoplusevents.com
SUMMARY:13th Pan-Arab Association of Radiological Societies (PAARS) Congress and the 9th Official Annual Meeting of the Radiological Society of Emirates (RSE)
DESCRIPTION:It is with great privilege and honor to welcome you to the 13th Pan-Arab Association of Radiological Societies (PAARS) Congress and the 9thOfficial Annual Meeting of the Radiological Society of Emirates (RSE) in Sofitel The Obelisk\, Dubai-UAE from 18 – 20 April 2025. \n#IPEvents \n\nSUBSCRIBE
URL:https://infoplusevents.com/event/13th-pan-arab-association-of-radiological-societies-paars-congress-and-the-9th-official-annual-meeting-of-the-radiological-society-of-emirates-rse/
LOCATION:Sofitel Dubai The Obelisk\, Dubai\, United Arab Emirates
CATEGORIES:Medical
ATTACH;FMTTYPE=image/jpeg:https://infoplusevents.com/wp-content/uploads/2025/02/InfoPlus-Banner-Paars-Banner.jpg
END:VEVENT
END:VCALENDAR