BEGIN:VCALENDAR
VERSION:2.0
PRODID:-//InfoPlus Events | Event Management Company - ECPv6.15.13//NONSGML v1.0//EN
CALSCALE:GREGORIAN
METHOD:PUBLISH
X-WR-CALNAME:InfoPlus Events | Event Management Company
X-ORIGINAL-URL:https://infoplusevents.com
X-WR-CALDESC:Events for InfoPlus Events | Event Management Company
REFRESH-INTERVAL;VALUE=DURATION:PT1H
X-Robots-Tag:noindex
X-PUBLISHED-TTL:PT1H
BEGIN:VTIMEZONE
TZID:Asia/Dubai
BEGIN:STANDARD
TZOFFSETFROM:+0400
TZOFFSETTO:+0400
TZNAME:+04
DTSTART:20200101T000000
END:STANDARD
END:VTIMEZONE
BEGIN:VEVENT
DTSTART;VALUE=DATE:20210521
DTEND;VALUE=DATE:20210523
DTSTAMP:20260422T001657
CREATED:20210421T072650Z
LAST-MODIFIED:20210429T085623Z
UID:2862-1621555200-1621727999@infoplusevents.com
SUMMARY:1st Joint Immunology Diseases Summit 2021 (Multidisciplinary approach) Virtual Conference
DESCRIPTION:We look forward to welcoming you to the “1stJoint Immunology Diseases Summit 2021 (Multidisciplinary approach) Virtual Conference ” which will run on 21 & 22 May 2021. \n#IPEvents \n\nSUBSCRIBE
URL:https://infoplusevents.com/event/1st-joint-immunology-diseases-summit-2021-multidisciplinary-approach-virtual-conference/
ATTACH;FMTTYPE=image/jpeg:https://infoplusevents.com/wp-content/uploads/2021/04/Info_Banner-For-JIDS-01.jpg
END:VEVENT
END:VCALENDAR