BEGIN:VCALENDAR
VERSION:2.0
PRODID:-//InfoPlus Events | Event Management Company - ECPv6.15.13//NONSGML v1.0//EN
CALSCALE:GREGORIAN
METHOD:PUBLISH
X-WR-CALNAME:InfoPlus Events | Event Management Company
X-ORIGINAL-URL:https://infoplusevents.com
X-WR-CALDESC:Events for InfoPlus Events | Event Management Company
REFRESH-INTERVAL;VALUE=DURATION:PT1H
X-Robots-Tag:noindex
X-PUBLISHED-TTL:PT1H
BEGIN:VTIMEZONE
TZID:Asia/Dubai
BEGIN:STANDARD
TZOFFSETFROM:+0400
TZOFFSETTO:+0400
TZNAME:+04
DTSTART:20240101T000000
END:STANDARD
END:VTIMEZONE
BEGIN:VEVENT
DTSTART;VALUE=DATE:20250509
DTEND;VALUE=DATE:20250512
DTSTAMP:20260421T225449
CREATED:20250226T140242Z
LAST-MODIFIED:20250226T140242Z
UID:3922-1746748800-1747007999@infoplusevents.com
SUMMARY:21th Emirates Critical Care Conference
DESCRIPTION:It gives me great pleasure to invite you to the 21th Emirates Critical Care Conference\, which will be held on 9-11 May 2025 in\, the Event Centre\, Dubai Festival City\, United Arab Emirates. \n#IPEvents \n\nSUBSCRIBE
URL:https://infoplusevents.com/event/21th-emirates-critical-care-conference/
LOCATION:Event Centre\, Dubai Festival City\, Dubai\, United Arab Emirates
CATEGORIES:Medical
ATTACH;FMTTYPE=image/jpeg:https://infoplusevents.com/wp-content/uploads/2025/02/InfoPlus-Banner-ECCC-Banner.jpg
END:VEVENT
END:VCALENDAR