BEGIN:VCALENDAR
VERSION:2.0
PRODID:-//InfoPlus Events | Event Management Company - ECPv6.15.13//NONSGML v1.0//EN
CALSCALE:GREGORIAN
METHOD:PUBLISH
X-WR-CALNAME:InfoPlus Events | Event Management Company
X-ORIGINAL-URL:https://infoplusevents.com
X-WR-CALDESC:Events for InfoPlus Events | Event Management Company
REFRESH-INTERVAL;VALUE=DURATION:PT1H
X-Robots-Tag:noindex
X-PUBLISHED-TTL:PT1H
BEGIN:VTIMEZONE
TZID:Asia/Dubai
BEGIN:STANDARD
TZOFFSETFROM:+0400
TZOFFSETTO:+0400
TZNAME:+04
DTSTART:20220101T000000
END:STANDARD
END:VTIMEZONE
BEGIN:VEVENT
DTSTART;VALUE=DATE:20231103
DTEND;VALUE=DATE:20231106
DTSTAMP:20260421T225812
CREATED:20230906T132012Z
LAST-MODIFIED:20230906T132545Z
UID:3515-1698969600-1699228799@infoplusevents.com
SUMMARY:3rd Annual Conference of the Emirates Society of Clinical Microbiology (ESCM)
DESCRIPTION:It gives us great pleasure to invite you to our 3rd Annual Conference of the Emirates Society of Clinical Microbiology (ESCM) that is planned to take place on 3-5 November 2023 at Mohammed Bin Rashid University of Medicine and Health Sciences\, Dubai\, UAE. \n#IPEvents \n\nSUBSCRIBE
URL:https://infoplusevents.com/event/3rd-annual-conference-of-the-emirates-society-of-clinical-microbiology-escm/
LOCATION:Mohammed Bin Rashid University of Medicine and Health Sciences Dubai\, United Arab Emirates
ATTACH;FMTTYPE=image/jpeg:https://infoplusevents.com/wp-content/uploads/2023/09/Info-ESCM-Banner-1-scaled.jpg
END:VEVENT
END:VCALENDAR