BEGIN:VCALENDAR
VERSION:2.0
PRODID:-//InfoPlus Events | Event Management Company - ECPv6.15.13//NONSGML v1.0//EN
CALSCALE:GREGORIAN
METHOD:PUBLISH
X-WR-CALNAME:InfoPlus Events | Event Management Company
X-ORIGINAL-URL:https://infoplusevents.com
X-WR-CALDESC:Events for InfoPlus Events | Event Management Company
REFRESH-INTERVAL;VALUE=DURATION:PT1H
X-Robots-Tag:noindex
X-PUBLISHED-TTL:PT1H
BEGIN:VTIMEZONE
TZID:Asia/Dubai
BEGIN:STANDARD
TZOFFSETFROM:+0400
TZOFFSETTO:+0400
TZNAME:+04
DTSTART:20190101T000000
END:STANDARD
END:VTIMEZONE
BEGIN:VEVENT
DTSTART;VALUE=DATE:20200402
DTEND;VALUE=DATE:20200405
DTSTAMP:20260421T225433
CREATED:20210429T085942Z
LAST-MODIFIED:20210429T085942Z
UID:2700-1585785600-1586044799@infoplusevents.com
SUMMARY:Emirates Critical Care Conference
DESCRIPTION:We look forward to welcoming you to Emirates Critical Care conference and World Federation of Critical Care Nurses to announce the “16th Emirates Critical Care Conference” cum “16th World congress of the world Federation of the Critical Care Nurses” from 2nd – 4th April 2020\, at Intercontinental Hotel\, Event Center\, Dubai Festival City\, UAE. \n#ECCCDubai #IPEvents \n\nSUBSCRIBE
URL:https://infoplusevents.com/event/emirates-critical-care-conference-2/
LOCATION:Le Méridien Dubai Hotel & Conference Centre \, Airport Road\, Garhoud\, Dubai\, United Arab Emirates
ATTACH;FMTTYPE=image/jpeg:https://infoplusevents.com/wp-content/uploads/2019/11/Slider8-01.jpg
END:VEVENT
END:VCALENDAR