BEGIN:VCALENDAR
VERSION:2.0
PRODID:-//InfoPlus Events | Event Management Company - ECPv6.15.13//NONSGML v1.0//EN
CALSCALE:GREGORIAN
METHOD:PUBLISH
X-WR-CALNAME:InfoPlus Events | Event Management Company
X-ORIGINAL-URL:https://infoplusevents.com
X-WR-CALDESC:Events for InfoPlus Events | Event Management Company
REFRESH-INTERVAL;VALUE=DURATION:PT1H
X-Robots-Tag:noindex
X-PUBLISHED-TTL:PT1H
BEGIN:VTIMEZONE
TZID:Asia/Dubai
BEGIN:STANDARD
TZOFFSETFROM:+0400
TZOFFSETTO:+0400
TZNAME:+04
DTSTART:20200101T000000
END:STANDARD
END:VTIMEZONE
BEGIN:VEVENT
DTSTART;VALUE=DATE:20210523
DTEND;VALUE=DATE:20210528
DTSTAMP:20260421T225610
CREATED:20210421T060154Z
LAST-MODIFIED:20210518T093159Z
UID:2842-1621728000-1622159999@infoplusevents.com
SUMMARY:International Conference for Excellence in Emergency Care
DESCRIPTION:We look forward to welcoming you to the “International Conference for Excellence in Emergency Care” which will run on 23 to 27 May 2021. \n#IPEvents \n\nSUBSCRIBE
URL:https://infoplusevents.com/event/international_conference_for_excellence_in_emergency_care/
ATTACH;FMTTYPE=image/jpeg:https://infoplusevents.com/wp-content/uploads/2021/05/Info_Banner_For_ICEEC-01.jpg
END:VEVENT
END:VCALENDAR